BEGIN:VCALENDAR
VERSION:2.0
PRODID:-//Site de la commune de Prunay-le-Gillon - ECPv4.5.13//NONSGML v1.0//EN
CALSCALE:GREGORIAN
METHOD:PUBLISH
X-WR-CALNAME:Site de la commune de Prunay-le-Gillon
X-ORIGINAL-URL:https://www.prunay-le-gillon.fr
X-WR-CALDESC:Events for Site de la commune de Prunay-le-Gillon
BEGIN:VEVENT
DTSTART;TZID=Europe/Paris:20231124T200000
DTEND;TZID=Europe/Paris:20231124T200000
DTSTAMP:20260420T174547
CREATED:20231120T140221Z
LAST-MODIFIED:20231120T140221Z
UID:11966-1700856000-1700856000@www.prunay-le-gillon.fr
SUMMARY:REUNION DU CONSEIL MUNICIPAL VENDREDI 24 NOVEMBRE 2023
DESCRIPTION:CM 24-11-23 ORDRE DU JOUR \n
URL:https://www.prunay-le-gillon.fr/evenement/reunion-du-conseil-municipal-vendredi-24-novembre-2023/
END:VEVENT
END:VCALENDAR