BEGIN:VCALENDAR
VERSION:2.0
PRODID:-//Site de la commune de Prunay-le-Gillon - ECPv4.5.13//NONSGML v1.0//EN
CALSCALE:GREGORIAN
METHOD:PUBLISH
X-WR-CALNAME:Site de la commune de Prunay-le-Gillon
X-ORIGINAL-URL:https://www.prunay-le-gillon.fr
X-WR-CALDESC:Events for Site de la commune de Prunay-le-Gillon
BEGIN:VEVENT
DTSTART;TZID=Europe/Paris:20170520T190000
DTEND;TZID=Europe/Paris:20170520T210000
DTSTAMP:20260421T104850
CREATED:20170130T092708Z
LAST-MODIFIED:20170130T092708Z
UID:1292-1495306800-1495314000@www.prunay-le-gillon.fr
SUMMARY:Pique-Nique des voisins
DESCRIPTION:
URL:https://www.prunay-le-gillon.fr/evenement/pique-nique-des-voisins/
LOCATION:7 rue de la Mairie\, Prunay-le-Gillon\, 28360\, France Métropolitaine
END:VEVENT
END:VCALENDAR