BEGIN:VCALENDAR
VERSION:2.0
PRODID:-//Site de la commune de Prunay-le-Gillon - ECPv4.5.13//NONSGML v1.0//EN
CALSCALE:GREGORIAN
METHOD:PUBLISH
X-WR-CALNAME:Site de la commune de Prunay-le-Gillon
X-ORIGINAL-URL:https://www.prunay-le-gillon.fr
X-WR-CALDESC:Events for Site de la commune de Prunay-le-Gillon
BEGIN:VEVENT
DTSTART;TZID=Europe/Paris:20210830T080000
DTEND;TZID=Europe/Paris:20210830T190000
DTSTAMP:20260420T202511
CREATED:20210823T090702Z
LAST-MODIFIED:20210823T090702Z
UID:9281-1630310400-1630350000@www.prunay-le-gillon.fr
SUMMARY:Passage d'une balayeuse
DESCRIPTION:
URL:https://www.prunay-le-gillon.fr/evenement/passage-dune-balayeuse/
END:VEVENT
END:VCALENDAR