BEGIN:VCALENDAR
VERSION:2.0
PRODID:-//Site de la commune de Prunay-le-Gillon - ECPv4.5.13//NONSGML v1.0//EN
CALSCALE:GREGORIAN
METHOD:PUBLISH
X-WR-CALNAME:Site de la commune de Prunay-le-Gillon
X-ORIGINAL-URL:https://www.prunay-le-gillon.fr
X-WR-CALDESC:Events for Site de la commune de Prunay-le-Gillon
BEGIN:VEVENT
DTSTART;TZID=Europe/Paris:20231120T090000
DTEND;TZID=Europe/Paris:20231120T120000
DTSTAMP:20260420T213601
CREATED:20231030T101830Z
LAST-MODIFIED:20231030T101830Z
UID:11929-1700470800-1700481600@www.prunay-le-gillon.fr
SUMMARY:MAIRIE FERMEE LUNDI 20 NOVEMBRE MATIN
DESCRIPTION:
URL:https://www.prunay-le-gillon.fr/evenement/mairie-fermee-lundi-20-novembre-matin/
END:VEVENT
END:VCALENDAR