BEGIN:VCALENDAR
VERSION:2.0
PRODID:-//Site de la commune de Prunay-le-Gillon - ECPv4.5.13//NONSGML v1.0//EN
CALSCALE:GREGORIAN
METHOD:PUBLISH
X-WR-CALNAME:Site de la commune de Prunay-le-Gillon
X-ORIGINAL-URL:https://www.prunay-le-gillon.fr
X-WR-CALDESC:Events for Site de la commune de Prunay-le-Gillon
BEGIN:VEVENT
DTSTART;TZID=Europe/Paris:20170520T150000
DTEND;TZID=Europe/Paris:20170520T170000
DTSTAMP:20260419T150149
CREATED:20170507T123718Z
LAST-MODIFIED:20170507T123818Z
UID:1808-1495292400-1495299600@www.prunay-le-gillon.fr
SUMMARY:Jeu de piste
DESCRIPTION: \n  \nConsultez l’article \n  \n  \n
URL:https://www.prunay-le-gillon.fr/evenement/jeu-de-piste/
LOCATION:7 rue de la Mairie\, Prunay-le-Gillon\, 28360\, France Métropolitaine
END:VEVENT
END:VCALENDAR