BEGIN:VCALENDAR
VERSION:2.0
PRODID:-//Site de la commune de Prunay-le-Gillon - ECPv4.5.13//NONSGML v1.0//EN
CALSCALE:GREGORIAN
METHOD:PUBLISH
X-WR-CALNAME:Site de la commune de Prunay-le-Gillon
X-ORIGINAL-URL:https://www.prunay-le-gillon.fr
X-WR-CALDESC:Events for Site de la commune de Prunay-le-Gillon
BEGIN:VEVENT
DTSTART;TZID=Europe/Paris:20180417T143000
DTEND;TZID=Europe/Paris:20180417T183000
DTSTAMP:20260421T090920
CREATED:20180309T124557Z
LAST-MODIFIED:20180309T124557Z
UID:2896-1523975400-1523989800@www.prunay-le-gillon.fr
SUMMARY:Enquête publique PLU
DESCRIPTION:
URL:https://www.prunay-le-gillon.fr/evenement/enquete-publique-plu-8/
END:VEVENT
END:VCALENDAR