BEGIN:VCALENDAR
VERSION:2.0
PRODID:-//Site de la commune de Prunay-le-Gillon - ECPv4.5.13//NONSGML v1.0//EN
CALSCALE:GREGORIAN
METHOD:PUBLISH
X-WR-CALNAME:Site de la commune de Prunay-le-Gillon
X-ORIGINAL-URL:https://www.prunay-le-gillon.fr
X-WR-CALDESC:Events for Site de la commune de Prunay-le-Gillon
BEGIN:VEVENT
DTSTART;TZID=Europe/Paris:20180426T084500
DTEND;TZID=Europe/Paris:20180426T114500
DTSTAMP:20260419T162554
CREATED:20180309T124901Z
LAST-MODIFIED:20180309T124901Z
UID:2906-1524732300-1524743100@www.prunay-le-gillon.fr
SUMMARY:Enquête publique PLU
DESCRIPTION:
URL:https://www.prunay-le-gillon.fr/evenement/enquete-publique-plu-13/
END:VEVENT
END:VCALENDAR