BEGIN:VCALENDAR
VERSION:2.0
PRODID:-//Site de la commune de Prunay-le-Gillon - ECPv4.5.13//NONSGML v1.0//EN
CALSCALE:GREGORIAN
METHOD:PUBLISH
X-WR-CALNAME:Site de la commune de Prunay-le-Gillon
X-ORIGINAL-URL:https://www.prunay-le-gillon.fr
X-WR-CALDESC:Events for Site de la commune de Prunay-le-Gillon
BEGIN:VEVENT
DTSTART;TZID=Europe/Paris:20210209T203000
DTEND;TZID=Europe/Paris:20210209T203000
DTSTAMP:20260421T161814
CREATED:20210204T154837Z
LAST-MODIFIED:20210204T154837Z
UID:7922-1612902600-1612902600@www.prunay-le-gillon.fr
SUMMARY:Conseil Municipal
DESCRIPTION:\nOuverture de la séance\nApprobation des PV en date du 16 décembre 2020 et du 25 janvier 2021\nAnnonce des délégations du Maire\nBudget 2021 : demandes de subventions\nInformations diverses\nClôture de séance\n\n
URL:https://www.prunay-le-gillon.fr/evenement/conseil-municipal-35/
END:VEVENT
END:VCALENDAR