BEGIN:VCALENDAR
VERSION:2.0
PRODID:-//Site de la commune de Prunay-le-Gillon - ECPv4.5.13//NONSGML v1.0//EN
CALSCALE:GREGORIAN
METHOD:PUBLISH
X-WR-CALNAME:Site de la commune de Prunay-le-Gillon
X-ORIGINAL-URL:https://www.prunay-le-gillon.fr
X-WR-CALDESC:Events for Site de la commune de Prunay-le-Gillon
BEGIN:VEVENT
DTSTART;TZID=Europe/Paris:20180214T100000
DTEND;TZID=Europe/Paris:20180214T110000
DTSTAMP:20260422T082530
CREATED:20180114T180240Z
LAST-MODIFIED:20180114T180316Z
UID:2654-1518602400-1518606000@www.prunay-le-gillon.fr
SUMMARY:Carnaval des écoles
DESCRIPTION:L’école Roger Judenne de Prunay-le-Gillon vous présente son carnaval le mercredi 14 février matin. \nRendez-vous devant l’école ou dans les rues de Prunay !!!!! \n
URL:https://www.prunay-le-gillon.fr/evenement/carnaval-des-ecoles-2/
LOCATION:27 grande rue\, prunay-le-gillon\, 28360\, France
ATTACH;FMTTYPE=image/jpeg:https://www.prunay-le-gillon.fr/wp-content/uploads/2018/01/Fotolia_58940130_Subscription_Monthly_M.jpg
END:VEVENT
END:VCALENDAR