BEGIN:VCALENDAR
VERSION:2.0
PRODID:-//Site de la commune de Prunay-le-Gillon - ECPv4.5.13//NONSGML v1.0//EN
CALSCALE:GREGORIAN
METHOD:PUBLISH
X-WR-CALNAME:Site de la commune de Prunay-le-Gillon
X-ORIGINAL-URL:https://www.prunay-le-gillon.fr
X-WR-CALDESC:Events for Site de la commune de Prunay-le-Gillon
BEGIN:VEVENT
DTSTART;TZID=Europe/Paris:20240206T143000
DTEND;TZID=Europe/Paris:20240206T163000
DTSTAMP:20260422T081455
CREATED:20240130T141743Z
LAST-MODIFIED:20240130T141743Z
UID:12157-1707229800-1707237000@www.prunay-le-gillon.fr
SUMMARY:Animation seniors au Préau 06 février 2024
DESCRIPTION:Mardi 06 février de 14h30 à 16h30\, à la médiathèque \nAnimation autour de la chandeleur et dégustation de vos meilleures crêpes! \n
URL:https://www.prunay-le-gillon.fr/evenement/animation-seniors-au-preau-06-fevrier-2024/
LOCATION:18 rue de la mairie\, Prunay-le-Gillon\, 28360\, France
ATTACH;FMTTYPE=image/jpeg:https://www.prunay-le-gillon.fr/wp-content/uploads/2024/01/animation-seniors-09.02.24.jpg
END:VEVENT
END:VCALENDAR