BEGIN:VCALENDAR
VERSION:2.0
PRODID:-//Site de la commune de Prunay-le-Gillon - ECPv4.5.13//NONSGML v1.0//EN
CALSCALE:GREGORIAN
METHOD:PUBLISH
X-WR-CALNAME:Site de la commune de Prunay-le-Gillon
X-ORIGINAL-URL:https://www.prunay-le-gillon.fr
X-WR-CALDESC:Events for Site de la commune de Prunay-le-Gillon
BEGIN:VEVENT
DTSTART;TZID=Europe/Paris:20220713T190000
DTEND;TZID=Europe/Paris:20220714T020000
DTSTAMP:20260422T155437
CREATED:20220706T062537Z
LAST-MODIFIED:20220706T102843Z
UID:10414-1657738800-1657764000@www.prunay-le-gillon.fr
SUMMARY:Fête nationale
DESCRIPTION: \n \n
URL:https://www.prunay-le-gillon.fr/evenement/fete-nationale/
ATTACH;FMTTYPE=image/jpeg:https://www.prunay-le-gillon.fr/wp-content/uploads/2022/07/affiche-14-juillet-2022-V2-e1657088840879.jpg
END:VEVENT
END:VCALENDAR