BEGIN:VCALENDAR
VERSION:2.0
PRODID:-//Site de la commune de Prunay-le-Gillon - ECPv4.5.13//NONSGML v1.0//EN
CALSCALE:GREGORIAN
METHOD:PUBLISH
X-WR-CALNAME:Site de la commune de Prunay-le-Gillon
X-ORIGINAL-URL:https://www.prunay-le-gillon.fr
X-WR-CALDESC:Events for Site de la commune de Prunay-le-Gillon
BEGIN:VEVENT
DTSTART;TZID=Europe/Paris:20220703T133000
DTEND;TZID=Europe/Paris:20220703T173000
DTSTAMP:20260420T010226
CREATED:20220701T092844Z
LAST-MODIFIED:20220701T092943Z
UID:10406-1656855000-1656869400@www.prunay-le-gillon.fr
SUMMARY:Loto du CMJ
DESCRIPTION:\nLe Conseil Municipal des Jeunes organise le dimanche 03 juillet 2022 après midi\, un LOTO !!!!\nLes bénéfices permettront de financer l’achat d’une table de ping-pong extérieure installée à côté du city-stade.\n\n\nRendez-vous à la salle polyvalente dès 13h30.\nDémarrage des tirages à 14h30.\n\n
URL:https://www.prunay-le-gillon.fr/evenement/loto-du-cmj/
ATTACH;FMTTYPE=image/jpeg:https://www.prunay-le-gillon.fr/wp-content/uploads/2022/07/loto.jpg
END:VEVENT
END:VCALENDAR