BEGIN:VCALENDAR
VERSION:2.0
PRODID:-//Site de la commune de Prunay-le-Gillon - ECPv4.5.13//NONSGML v1.0//EN
CALSCALE:GREGORIAN
METHOD:PUBLISH
X-WR-CALNAME:Site de la commune de Prunay-le-Gillon
X-ORIGINAL-URL:https://www.prunay-le-gillon.fr
X-WR-CALDESC:Events for Site de la commune de Prunay-le-Gillon
BEGIN:VEVENT
DTSTART;TZID=Europe/Paris:20220521T100000
DTEND;TZID=Europe/Paris:20220521T140000
DTSTAMP:20260419T233623
CREATED:20220422T133422Z
LAST-MODIFIED:20220422T133624Z
UID:10122-1653127200-1653141600@www.prunay-le-gillon.fr
SUMMARY:Nettoyage de Printemps
DESCRIPTION:
URL:https://www.prunay-le-gillon.fr/evenement/nettoyage-de-printemps-2/
ATTACH;FMTTYPE=image/jpeg:https://www.prunay-le-gillon.fr/wp-content/uploads/2022/04/Affiche-Agglo.jpg
END:VEVENT
END:VCALENDAR