BEGIN:VCALENDAR
VERSION:2.0
PRODID:-//Site de la commune de Prunay-le-Gillon - ECPv4.5.13//NONSGML v1.0//EN
CALSCALE:GREGORIAN
METHOD:PUBLISH
X-WR-CALNAME:Site de la commune de Prunay-le-Gillon
X-ORIGINAL-URL:https://www.prunay-le-gillon.fr
X-WR-CALDESC:Events for Site de la commune de Prunay-le-Gillon
BEGIN:VEVENT
DTSTART;TZID=Europe/Paris:20220410T080000
DTEND;TZID=Europe/Paris:20220410T180000
DTSTAMP:20260419T215342
CREATED:20220210T085345Z
LAST-MODIFIED:20220210T085345Z
UID:9923-1649577600-1649613600@www.prunay-le-gillon.fr
SUMMARY:Elections présidentielles
DESCRIPTION:
URL:https://www.prunay-le-gillon.fr/evenement/elections-presidentielles/
END:VEVENT
END:VCALENDAR