BEGIN:VCALENDAR
VERSION:2.0
PRODID:-//Site de la commune de Prunay-le-Gillon - ECPv4.5.13//NONSGML v1.0//EN
CALSCALE:GREGORIAN
METHOD:PUBLISH
X-WR-CALNAME:Site de la commune de Prunay-le-Gillon
X-ORIGINAL-URL:https://www.prunay-le-gillon.fr
X-WR-CALDESC:Events for Site de la commune de Prunay-le-Gillon
BEGIN:VEVENT
DTSTART;TZID=Europe/Paris:20220402T200000
DTEND;TZID=Europe/Paris:20220402T235900
DTSTAMP:20260419T192149
CREATED:20220320T104840Z
LAST-MODIFIED:20220320T104840Z
UID:10028-1648929600-1648943940@www.prunay-le-gillon.fr
SUMMARY:Soirée Jeux
DESCRIPTION:
URL:https://www.prunay-le-gillon.fr/evenement/soiree-jeux/
LOCATION:18 rue de la mairie\, Prunay-le-Gillon\, 28360\, France
END:VEVENT
END:VCALENDAR