BEGIN:VCALENDAR
VERSION:2.0
PRODID:-//Site de la commune de Prunay-le-Gillon - ECPv4.5.13//NONSGML v1.0//EN
CALSCALE:GREGORIAN
METHOD:PUBLISH
X-WR-CALNAME:Site de la commune de Prunay-le-Gillon
X-ORIGINAL-URL:https://www.prunay-le-gillon.fr
X-WR-CALDESC:Events for Site de la commune de Prunay-le-Gillon
BEGIN:VEVENT
DTSTART;TZID=Europe/Paris:20220319T093000
DTEND;TZID=Europe/Paris:20220319T113000
DTSTAMP:20260419T193900
CREATED:20220210T085121Z
LAST-MODIFIED:20220313T090455Z
UID:9921-1647682200-1647689400@www.prunay-le-gillon.fr
SUMMARY:Commémoration FNACA
DESCRIPTION:
URL:https://www.prunay-le-gillon.fr/evenement/commemoration-fnaca-3/
END:VEVENT
END:VCALENDAR