BEGIN:VCALENDAR
VERSION:2.0
PRODID:-//Site de la commune de Prunay-le-Gillon - ECPv4.5.13//NONSGML v1.0//EN
CALSCALE:GREGORIAN
METHOD:PUBLISH
X-WR-CALNAME:Site de la commune de Prunay-le-Gillon
X-ORIGINAL-URL:https://www.prunay-le-gillon.fr
X-WR-CALDESC:Events for Site de la commune de Prunay-le-Gillon
BEGIN:VEVENT
DTSTART;TZID=Europe/Paris:20220312T190000
DTEND;TZID=Europe/Paris:20220312T233000
DTSTAMP:20260419T192804
CREATED:20220304T145216Z
LAST-MODIFIED:20220304T145216Z
UID:10003-1647111600-1647127800@www.prunay-le-gillon.fr
SUMMARY:Couscous
DESCRIPTION:
URL:https://www.prunay-le-gillon.fr/evenement/couscous/
END:VEVENT
END:VCALENDAR