BEGIN:VCALENDAR
VERSION:2.0
PRODID:-//Site de la commune de Prunay-le-Gillon - ECPv4.5.13//NONSGML v1.0//EN
CALSCALE:GREGORIAN
METHOD:PUBLISH
X-WR-CALNAME:Site de la commune de Prunay-le-Gillon
X-ORIGINAL-URL:https://www.prunay-le-gillon.fr
X-WR-CALDESC:Events for Site de la commune de Prunay-le-Gillon
BEGIN:VEVENT
DTSTART;VALUE=DATE:20220208
DTEND;VALUE=DATE:20220208
DTSTAMP:20260419T173250
CREATED:20220125T114411Z
LAST-MODIFIED:20220125T114411Z
UID:9815-1644278400-1644364799@www.prunay-le-gillon.fr
SUMMARY:Fabrique musicale au Préau pendant les vacances scolaires
DESCRIPTION:Votre médiathèque le Préau vous propose 2 ateliers de mise en musique d’un extrait de roman. \nVous avez au moins 10 ans et vous aimeriez enrichir un texte par la musique\, l’expression corporelle\, le chant\, \nalors inscrivez-vous auprès de la médiathèque. \nPour plus d’information\, cliquer ici: Fabrique musicale -v2 \n
URL:https://www.prunay-le-gillon.fr/evenement/fabrique-musicale-au-preau-pendant-les-vacances-scolaires/
LOCATION:18 rue de la mairie\, Prunay-le-Gillon\, 28360\, France
ORGANIZER;CN="M%C3%A9diath%C3%A8que%20Le%20Pr%C3%A9au":MAILTO:mediatheque@prunay-le-gillon.fr
END:VEVENT
END:VCALENDAR