BEGIN:VCALENDAR
VERSION:2.0
PRODID:-//Site de la commune de Prunay-le-Gillon - ECPv4.5.13//NONSGML v1.0//EN
CALSCALE:GREGORIAN
METHOD:PUBLISH
X-WR-CALNAME:Site de la commune de Prunay-le-Gillon
X-ORIGINAL-URL:https://www.prunay-le-gillon.fr
X-WR-CALDESC:Events for Site de la commune de Prunay-le-Gillon
BEGIN:VEVENT
DTSTART;TZID=Europe/Paris:20211211T100000
DTEND;TZID=Europe/Paris:20211211T123000
DTSTAMP:20260419T141105
CREATED:20211130T113946Z
LAST-MODIFIED:20211130T113946Z
UID:9714-1639216800-1639225800@www.prunay-le-gillon.fr
SUMMARY:Conférence
DESCRIPTION:A l’occasion de la sortie de son nouveau roman\, Roger Judenne donnera une conférence retraçant le projet TGV Atlantique dans la région. \nSamedi 11 décembre de 10h à 12h30 \nUne  belle occasion d’offrir des romans dédicacés pour les fêtes! \n \n
URL:https://www.prunay-le-gillon.fr/evenement/conference/
LOCATION:18 rue de la mairie\, Prunay-le-Gillon\, 28360\, France
ATTACH;FMTTYPE=image/png:https://www.prunay-le-gillon.fr/wp-content/uploads/2021/11/thumbnail_roger-judenne-Prunay-le-Gillon.png
ORGANIZER;CN="M%C3%A9diath%C3%A8que%20Le%20Pr%C3%A9au":MAILTO:mediatheque@prunay-le-gillon.fr
END:VEVENT
END:VCALENDAR