BEGIN:VCALENDAR
VERSION:2.0
PRODID:-//Site de la commune de Prunay-le-Gillon - ECPv4.5.13//NONSGML v1.0//EN
CALSCALE:GREGORIAN
METHOD:PUBLISH
X-WR-CALNAME:Site de la commune de Prunay-le-Gillon
X-ORIGINAL-URL:https://www.prunay-le-gillon.fr
X-WR-CALDESC:Events for Site de la commune de Prunay-le-Gillon
BEGIN:VEVENT
DTSTART;TZID=Europe/Paris:20211208T100000
DTEND;TZID=Europe/Paris:20211208T113000
DTSTAMP:20260419T141424
CREATED:20211130T105325Z
LAST-MODIFIED:20211130T105325Z
UID:9705-1638957600-1638963000@www.prunay-le-gillon.fr
SUMMARY:Atelier bricolage "spécial Noël" au Préau
DESCRIPTION:Venez participer à un atelier de bricolage « spécial Noël » \nMercredi 8 décembre de 10h à 11h30\, à la médiathèque. \nRecyclage de capsules de café  \nA partir de 7 ans \nPass sanitaire à partir de 12 ans \nSur inscription \nPour plus d’info\, cliquer ici: atelier Noel 2021 guirlande \n
URL:https://www.prunay-le-gillon.fr/evenement/atelier-bricolage-special-noel-au-preau/
LOCATION:18 rue de la mairie\, Prunay-le-Gillon\, 28360
ORGANIZER;CN="M%C3%A9diath%C3%A8que%20Le%20Pr%C3%A9au":MAILTO:mediatheque@prunay-le-gillon.fr
END:VEVENT
END:VCALENDAR