BEGIN:VCALENDAR
VERSION:2.0
PRODID:-//Site de la commune de Prunay-le-Gillon - ECPv4.5.13//NONSGML v1.0//EN
CALSCALE:GREGORIAN
METHOD:PUBLISH
X-WR-CALNAME:Site de la commune de Prunay-le-Gillon
X-ORIGINAL-URL:https://www.prunay-le-gillon.fr
X-WR-CALDESC:Events for Site de la commune de Prunay-le-Gillon
BEGIN:VEVENT
DTSTART;TZID=Europe/Paris:20190515T200000
DTEND;TZID=Europe/Paris:20190515T220000
DTSTAMP:20260423T105156
CREATED:20190510T121132Z
LAST-MODIFIED:20190514T140910Z
UID:5711-1557950400-1557957600@www.prunay-le-gillon.fr
SUMMARY:Conseil Municipal
DESCRIPTION:
URL:https://www.prunay-le-gillon.fr/evenement/conseil-municipal-25/
LOCATION:18 RUE DE LA MAIRIE\, PRUNAY-LE-GILLON\, 28360\, France
END:VEVENT
END:VCALENDAR