BEGIN:VCALENDAR
VERSION:2.0
PRODID:-//Site de la commune de Prunay-le-Gillon - ECPv4.5.13//NONSGML v1.0//EN
CALSCALE:GREGORIAN
METHOD:PUBLISH
X-WR-CALNAME:Site de la commune de Prunay-le-Gillon
X-ORIGINAL-URL:https://www.prunay-le-gillon.fr
X-WR-CALDESC:Events for Site de la commune de Prunay-le-Gillon
BEGIN:VEVENT
DTSTART;TZID=Europe/Paris:20190309T110000
DTEND;TZID=Europe/Paris:20190309T130000
DTSTAMP:20260422T090119
CREATED:20190218T175056Z
LAST-MODIFIED:20190218T175226Z
UID:5312-1552129200-1552136400@www.prunay-le-gillon.fr
SUMMARY:L'heure du poème
DESCRIPTION:Pour Jeune public \nL’Heure du Poème est un événement créé par la Caravane des Poètes en 2013 et qui connaît depuis\, vu son succès\, une nouvelle édition chaque année à la mi-mars. \nL’Heure du Poème… \nTrois spectacles différents \nPour vagabonder en poésie \nPour flâner le long des mots \n Ce jour-là\, six comédiens\, musiciens et chanteurs de la Caravane des Poètes sont dispersés dans tout le département d’Eure-et-Loir. \nCe jour-là\, quel que soit votre âge\, vivez une grande aventure poétique ! \nCe jour-là\, les artistes de la Caravane des Poètes vous font entendre la poésie du patrimoine et la poésie qui s’écrit aujourd’hui\, le tout accompagné de quelques notes de musique. \n  \n1ere animation de notre médiathèque « Le Préau ». A ne pas manquer !!! \n
URL:https://www.prunay-le-gillon.fr/evenement/lheure-du-poeme/
LOCATION:18 rue de la mairie\, Prunay-le-Gillon\, 28360
ATTACH;FMTTYPE=image/jpeg:https://www.prunay-le-gillon.fr/wp-content/uploads/2019/02/basicimagedownload.jpg
END:VEVENT
END:VCALENDAR