BEGIN:VCALENDAR
VERSION:2.0
PRODID:-//Site de la commune de Prunay-le-Gillon - ECPv4.5.13//NONSGML v1.0//EN
CALSCALE:GREGORIAN
METHOD:PUBLISH
X-WR-CALNAME:Site de la commune de Prunay-le-Gillon
X-ORIGINAL-URL:https://www.prunay-le-gillon.fr
X-WR-CALDESC:Events for Site de la commune de Prunay-le-Gillon
BEGIN:VEVENT
DTSTART;TZID=Europe/Paris:20190302T100000
DTEND;TZID=Europe/Paris:20190302T120000
DTSTAMP:20260421T221514
CREATED:20190218T174430Z
LAST-MODIFIED:20190219T151629Z
UID:5309-1551520800-1551528000@www.prunay-le-gillon.fr
SUMMARY:Ouverture de la médiathèque "le Préau"
DESCRIPTION: \nLe Préau\, votre nouvelle médiathèque ouvre ses portes le samedi 02 mars à 10h00. Venez nombreux découvrir ce nouvel espace culturel. \nGratuit pour tous !!! \n
URL:https://www.prunay-le-gillon.fr/evenement/ouverture-de-la-mediatheque-le-preau/
LOCATION:18 rue de la mairie\, Prunay-le-Gillon\, 28360
END:VEVENT
BEGIN:VEVENT
DTSTART;TZID=Europe/Paris:20190302T193000
DTEND;TZID=Europe/Paris:20190302T233000
DTSTAMP:20260421T221514
CREATED:20190113T135948Z
LAST-MODIFIED:20190113T140012Z
UID:5223-1551555000-1551569400@www.prunay-le-gillon.fr
SUMMARY:Couscous Association Eglise
DESCRIPTION:L’ASSOCIATION POUR LE SAUVETAGE DE L’EGLISE \nDE PRUNAY-LE-GILLON \n \nVous invite à son COUSCOUS \nSAMEDI 2 mars 2019 à 19 h 30 \nDîner dansant avec l’orchestre JP MENAGER \nCocktail et vin compris \n  \nSalle polyvalente de PRUNAY-LE-GILLON \nPrix 34 € payable à la réservation \n  \n  \nINSCRIPTIONS AUPRES DE : Mme Claudine Letard  09 52 39 02 09 après 18h30       –      7\, impasse des cours – 28360 Prunay-le-Gillon \nAvant le 23 février\, dans la limite des places disponibles (140 max) – réservation prise en compte à réception du chèque uniquement\, avec liste nominative des participants\, si chèque groupé\, au nom de l’association de sauvetage de l’église de Prunay le Gillon . \n  \n  \n
URL:https://www.prunay-le-gillon.fr/evenement/coucous-association-eglise/
LOCATION:7 rue de la Mairie\, Prunay-le-Gillon\, 28360\, France Métropolitaine
END:VEVENT
END:VCALENDAR